BEGIN:VCALENDAR
VERSION:2.0
PRODID:-//Helen Klein Ross - ECPv6.15.17//NONSGML v1.0//EN
CALSCALE:GREGORIAN
METHOD:PUBLISH
X-ORIGINAL-URL:https://www.helenkleinross.com
X-WR-CALDESC:Events for Helen Klein Ross
REFRESH-INTERVAL;VALUE=DURATION:PT1H
X-Robots-Tag:noindex
X-PUBLISHED-TTL:PT1H
BEGIN:VTIMEZONE
TZID:UTC
BEGIN:STANDARD
TZOFFSETFROM:+0000
TZOFFSETTO:+0000
TZNAME:UTC
DTSTART:20170101T000000
END:STANDARD
END:VTIMEZONE
BEGIN:VEVENT
DTSTART;TZID=UTC:20181124T110000
DTEND;TZID=UTC:20181124T120000
DTSTAMP:20260423T205154
CREATED:20181013T011526Z
LAST-MODIFIED:20181026T220629Z
UID:3015-1543057200-1543060800@www.helenkleinross.com
SUMMARY:Reading & Hidden History Presentation at Winsted Community Bookstore
DESCRIPTION:Related
URL:https://www.helenkleinross.com/event/reading-hidden-history-presentation-at-winsted-community-bookstore/
LOCATION:Winsted Community Bookstore\, 414 Main Street\, Winsted\, CT\, 06098\, United States
END:VEVENT
END:VCALENDAR