BEGIN:VCALENDAR
VERSION:2.0
PRODID:-//Helen Klein Ross - ECPv6.15.17//NONSGML v1.0//EN
CALSCALE:GREGORIAN
METHOD:PUBLISH
X-ORIGINAL-URL:https://www.helenkleinross.com
X-WR-CALDESC:Events for Helen Klein Ross
REFRESH-INTERVAL;VALUE=DURATION:PT1H
X-Robots-Tag:noindex
X-PUBLISHED-TTL:PT1H
BEGIN:VTIMEZONE
TZID:UTC
BEGIN:STANDARD
TZOFFSETFROM:+0000
TZOFFSETTO:+0000
TZNAME:UTC
DTSTART:20150101T000000
END:STANDARD
END:VTIMEZONE
BEGIN:VEVENT
DTSTART;TZID=UTC:20160131T163000
DTEND;TZID=UTC:20160131T180000
DTSTAMP:20260424T000639
CREATED:20151104T203459Z
LAST-MODIFIED:20151123T171707Z
UID:1412-1454257800-1454263200@www.helenkleinross.com
SUMMARY:Hudson Valley Writer's Center
DESCRIPTION:What Was Mine Reading with NYT bestselling author Abigail Thomas reading from What Comes Next and How To Like It \n  \nABOUT THE AUTHORS\nHelen Klein Ross’s fiction and poetry has been published in The New Yorker\, The New York Times and literary journals and anthologies. She is the creator of The Traveler’s Vade Mecum\, an anthology of poems with titles sourced from an 1853 compendium of over 8000 numbered phrases meant for travelers to telegraph. Contributors include former US poet laureate Billy Collins\, Bollingen Prize winner Frank Bidart and Hudson Valley Writers’ Center director Jennifer Franklin. The anthology is forthcoming from Red Hen Press. \nAbigail Thomas\, the daughter of renowned science writer Lewis Thomas (The Lives of a Cell)\, is the author of seven books of fiction\, memoir and poetry. Her Three Dog Life was named one of the best books of 2006 by the Los Angeles Times and the Washington Post. Her latest book What Comes Next and How to Like It moved Stephen King to name her “the Emily Dickenson of memoirists.” Abigail is the mother of four children and the grandmother of twelve. She lives and teaches in Woodstock\, NY. \n\n\n	Related
URL:https://www.helenkleinross.com/event/hudson-valley-writers-center/
LOCATION:Hudson Valley Writers’ Center\, 300 Riverside Dr\, Sleepy Hollow\, NY\, 10591\, United States
CATEGORIES:What Was Mine
GEO:41.0945924;-73.8694975
X-APPLE-STRUCTURED-LOCATION;VALUE=URI;X-ADDRESS=Hudson Valley Writers’ Center 300 Riverside Dr Sleepy Hollow NY 10591 United States;X-APPLE-RADIUS=500;X-TITLE=300 Riverside Dr:geo:-73.8694975,41.0945924
END:VEVENT
END:VCALENDAR