BEGIN:VCALENDAR
VERSION:2.0
PRODID:-//Helen Klein Ross - ECPv6.15.17//NONSGML v1.0//EN
CALSCALE:GREGORIAN
METHOD:PUBLISH
X-ORIGINAL-URL:https://www.helenkleinross.com
X-WR-CALDESC:Events for Helen Klein Ross
REFRESH-INTERVAL;VALUE=DURATION:PT1H
X-Robots-Tag:noindex
X-PUBLISHED-TTL:PT1H
BEGIN:VTIMEZONE
TZID:UTC
BEGIN:STANDARD
TZOFFSETFROM:+0000
TZOFFSETTO:+0000
TZNAME:UTC
DTSTART:20150101T000000
END:STANDARD
END:VTIMEZONE
BEGIN:VEVENT
DTSTART;TZID=UTC:20160417T180000
DTEND;TZID=UTC:20160417T190000
DTSTAMP:20260423T205158
CREATED:20160302T030023Z
LAST-MODIFIED:20160302T030023Z
UID:2227-1460916000-1460919600@www.helenkleinross.com
SUMMARY:Three Muses Reading at The Juilliard School
DESCRIPTION:A reading with Desirée Alvarez\, Helen Klein Ross and Danniel Schoonbeek \n\n\n	Related
URL:https://www.helenkleinross.com/event/three-muses-reading-at-the-juilliard-school/
LOCATION:Glorya Kaufman Studio\, 2nd Floor\, 65th Street West of Broadway\, New York\, NY\, 10023\, United States
GEO:40.7737912;-73.9839916
X-APPLE-STRUCTURED-LOCATION;VALUE=URI;X-ADDRESS=Glorya Kaufman Studio 2nd Floor 65th Street West of Broadway New York NY 10023 United States;X-APPLE-RADIUS=500;X-TITLE=65th Street West of Broadway:geo:-73.9839916,40.7737912
END:VEVENT
END:VCALENDAR