BEGIN:VCALENDAR
VERSION:2.0
PRODID:-//Helen Klein Ross - ECPv6.15.17//NONSGML v1.0//EN
CALSCALE:GREGORIAN
METHOD:PUBLISH
X-WR-CALNAME:Helen Klein Ross
X-ORIGINAL-URL:https://www.helenkleinross.com
X-WR-CALDESC:Events for Helen Klein Ross
REFRESH-INTERVAL;VALUE=DURATION:PT1H
X-Robots-Tag:noindex
X-PUBLISHED-TTL:PT1H
BEGIN:VTIMEZONE
TZID:UTC
BEGIN:STANDARD
TZOFFSETFROM:+0000
TZOFFSETTO:+0000
TZNAME:UTC
DTSTART:20150101T000000
END:STANDARD
END:VTIMEZONE
BEGIN:VEVENT
DTSTART;TZID=UTC:20170330T140000
DTEND;TZID=UTC:20170330T150000
DTSTAMP:20260423T174639
CREATED:20170307T133715Z
LAST-MODIFIED:20170307T134519Z
UID:2556-1490882400-1490886000@www.helenkleinross.com
SUMMARY:Author's Talk
DESCRIPTION:This event is free and open to the public. Please join me for reading and discussion of how real life impacts fiction.
URL:https://www.helenkleinross.com/event/authors-talk/
LOCATION:Monroe Township Library\, Monroe New Jersey\, 4 Municipal Plaza\, Monroe Township\, NJ \, 08831
GEO:40.3270968;-74.4429199
X-APPLE-STRUCTURED-LOCATION;VALUE=URI;X-ADDRESS=Monroe Township Library Monroe New Jersey 4 Municipal Plaza Monroe Township NJ  08831;X-APPLE-RADIUS=500;X-TITLE=4 Municipal Plaza:geo:-74.4429199,40.3270968
END:VEVENT
BEGIN:VEVENT
DTSTART;TZID=UTC:20161102T180000
DTEND;TZID=UTC:20161102T200000
DTSTAMP:20260423T174639
CREATED:20161027T195709Z
LAST-MODIFIED:20161028T035227Z
UID:2492-1478109600-1478116800@www.helenkleinross.com
SUMMARY:The Traveler's Vade Mecum launch at NYPL
DESCRIPTION:Please join us on Wednesday\, Nov 2\, 6-8 PM for the launch of The Traveler’s Vade Mecum where the 1853 compendium will be on display. \nFree event hosted by The New York Public Library\, 5th Ave & 42nd St (main Lions branch)\, 2nd floor Berger Forum\, Room 227. \nReaders include: \nDesirée Alvarez\, I SUFFER CONSIDERABLY AT INTERVALS\nHarry Bauld\, THE BODY HAS BEEN FOUND\nChip Brown\, MY WIFE UNITES WITH ME IN KIND REGARDS\nPatricia Carlin\, THE ORIGINAL CAN NOT BE FOUND\nJ. Gerard Chalmers\, HAVE YOU PLENTY OF WATER?\nLaura Cronk\, HOW LONG SHALL I WAIT?\nEmily Fragos\, THE WEATHER IS VERY COLD\nJennifer Franklin\, EARLY IN THE MORNING\nLee Gould\, OUR FRIENDS HAVE COME\nMichael Gottlieb\, SYMPTOMS ARE UNFAVORABLE\, AND ALARMING\nSonja Greckol\, I SHAN’T TELL YOU WHAT IT IS\, BUT WILL SHOW IT TO YOU WHEN YOU COME\nScott Hightower\, THE FUNERAL WAS LARGELY ATTENDED\nRon Horning\, THE WEATHER IS FINE\, AND I AM IMPROVING IT\nBergen Hutaff\, DO YOU KNOW OF A PERSON GOING WEST SOON\, WHO WOULD\nTAKE A LADY UNDER HIS PROTECTION?\nColette Inez\, MORE LIGHT IS WANTED ON THE SUBJECT\nBrett Fletcher Lauer\, I SHALL TAKE A DIFFERENT COURSE\nDavid Lehman\, THE CLOUDS LOOK THREATENING\, AND THERE’S THE PROSPECT OF A STORM\nMaria Lisella\, THE WEATHER IS UNSETTLED\nStephen Massimilla\, I AM AGREEABLY DISAPPOINTED IN THIS PLACE\nDeb McAlister\, IT IS SUPPOSED THE BOAT IS DETAINED BY FOG\nLynn Melnick\, THE RAIN IS OVER\, APPARENTLY\nGretchen Primack\, HARSH LANGUAGE WAS USED\nAnna Rabinowitz\, I HAVE DISCOVERED AN ERROR\nJimmy Roberts\, I HAVE A VIVID RECOLLECTION OF IT\nJo Sarzotti\, SOME OF THE PASSENGERS WERE KILLED BY THE ACCIDENT\nGail Segal\, A SAD ACCIDENT HAS HAPPENED\nAnn Settel\, I HAVE WRITTEN SEVERAL TIMES\, BUT GET NO ANSWER; WHAT CAN BE THE REASON?\nJames Sherry\, THE STORM IS VIOLENT\, AND DOING MUCH DAMAGE\nJamie Stern\, THE COUNTRY IS QUITE LEVEL\nJulie Suarez\, THERE WAS A GREAT WANT OF CIVILITY\nAbigail Thomas\, THE CHILDREN WISH TO BE AFFECTIONATELY REMEMBERED\nMichael Tyrell\, THE HEIRS WILL NOT CONSENT\nAbigail Wender\, IS THERE A CERTAINTY OF IT?\nCatherine Woodard\, HAVE YOU SEEN MY DAUGHTER?
URL:https://www.helenkleinross.com/event/2492/
LOCATION:New York Public Library (Main Branch)\, 5th Ave & 42nd St\, 2nd floor Berger Forum\, Room 227\, New York\, NY\, 10018\, United States
CATEGORIES:Readings,The Traveler's Vade Mecum
GEO:40.755322;-73.9932872
X-APPLE-STRUCTURED-LOCATION;VALUE=URI;X-ADDRESS=New York Public Library (Main Branch) 5th Ave & 42nd St 2nd floor Berger Forum Room 227 New York NY 10018 United States;X-APPLE-RADIUS=500;X-TITLE=5th Ave & 42nd St\, 2nd floor Berger Forum\, Room 227:geo:-73.9932872,40.755322
END:VEVENT
BEGIN:VEVENT
DTSTART;VALUE=DATE:20161008
DTEND;VALUE=DATE:20161009
DTSTAMP:20260423T174639
CREATED:20160826T163554Z
LAST-MODIFIED:20160826T163554Z
UID:2433-1475884800-1475971199@www.helenkleinross.com
SUMMARY:Litquake 2016
DESCRIPTION:San Francisco’s literary festival\, the most freewheeling event for book people in the country. Readings from the latest fiction and poetry.
URL:https://www.helenkleinross.com/event/litquake-2016/
LOCATION:Mechanic’s Institute Library\, 57 Post St\, San Francisco\, CA\, 94104\, United States
CATEGORIES:Book Festivals
GEO:37.7888616;-122.4029759
X-APPLE-STRUCTURED-LOCATION;VALUE=URI;X-ADDRESS=Mechanic’s Institute Library 57 Post St San Francisco CA 94104 United States;X-APPLE-RADIUS=500;X-TITLE=57 Post St:geo:-122.4029759,37.7888616
END:VEVENT
BEGIN:VEVENT
DTSTART;TZID=UTC:20160904T150000
DTEND;TZID=UTC:20160904T154500
DTSTAMP:20260423T174639
CREATED:20160826T162024Z
LAST-MODIFIED:20160826T193443Z
UID:2428-1473001200-1473003900@www.helenkleinross.com
SUMMARY:Decatur Book Festival
DESCRIPTION:Tens of thousands of book lovers will gather on the Decatur Square over Labor Day weekend to hear a host of great authors including Alexander Chee\, Lynn Cullen\, Samantha Hunt\, Rob Spillman\, Natasha Tretheway and many more. I’ll have the pleasure of sharing a panel with Lee Martin\, moderated by Jackie Cooper. Join us!
URL:https://www.helenkleinross.com/event/decatur-book-festival/
LOCATION:Decatur Library\, 215 Sycamore Street\, Decatur\, GA\, 30030\, United States
CATEGORIES:Book Festivals,What Was Mine
GEO:33.7741573;-84.2940387
X-APPLE-STRUCTURED-LOCATION;VALUE=URI;X-ADDRESS=Decatur Library 215 Sycamore Street Decatur GA 30030 United States;X-APPLE-RADIUS=500;X-TITLE=215 Sycamore Street:geo:-84.2940387,33.7741573
END:VEVENT
BEGIN:VEVENT
DTSTART;TZID=UTC:20160811T173000
DTEND;TZID=UTC:20160811T203000
DTSTAMP:20260423T174639
CREATED:20160426T023221Z
LAST-MODIFIED:20160426T023221Z
UID:2310-1470936600-1470947400@www.helenkleinross.com
SUMMARY:Wine and Words Literary Event
DESCRIPTION:
URL:https://www.helenkleinross.com/event/wine-and-words-literary-event/
LOCATION:Grand View Lodge\, 23521 Nokomis Ave\, Nisswa\, Minnesota\, 56468\, United States
GEO:46.4929397;-94.3155111
X-APPLE-STRUCTURED-LOCATION;VALUE=URI;X-ADDRESS=Grand View Lodge 23521 Nokomis Ave Nisswa Minnesota 56468 United States;X-APPLE-RADIUS=500;X-TITLE=23521 Nokomis Ave:geo:-94.3155111,46.4929397
END:VEVENT
BEGIN:VEVENT
DTSTART;TZID=UTC:20160612T110000
DTEND;TZID=UTC:20160612T130000
DTSTAMP:20260423T174639
CREATED:20160608T200634Z
LAST-MODIFIED:20160608T200634Z
UID:2369-1465729200-1465736400@www.helenkleinross.com
SUMMARY:Author Signing at The Cornell Store in Ithaca on Saturday
DESCRIPTION:
URL:https://www.helenkleinross.com/event/author-signing-at-the-cornell-store-in-ithaca-on-saturday/
LOCATION:The Cornell Store\, 135 Ho Plaza\, Ithaca\, NY\, 14853\, United States
CATEGORIES:What Was Mine
GEO:42.4475064;-76.4848595
X-APPLE-STRUCTURED-LOCATION;VALUE=URI;X-ADDRESS=The Cornell Store 135 Ho Plaza Ithaca NY 14853 United States;X-APPLE-RADIUS=500;X-TITLE=135 Ho Plaza:geo:-76.4848595,42.4475064
END:VEVENT
BEGIN:VEVENT
DTSTART;TZID=UTC:20160521T011500
DTEND;TZID=UTC:20160521T143000
DTSTAMP:20260423T174639
CREATED:20160426T022313Z
LAST-MODIFIED:20160426T022313Z
UID:2308-1463793300-1463841000@www.helenkleinross.com
SUMMARY:Gaithersburg Book Festival
DESCRIPTION:Reading and signing at the “Edge of Your Seat Fiction” panel\, Edgar Allen Poe Pavilion
URL:https://www.helenkleinross.com/event/gaithersburg-book-festival/
LOCATION:Gaithersburg Book Festival\, 31 South Summit Avenue\, \, Gaithersburg\, MD\, 20877\, United States
GEO:39.139876;-77.1926495
X-APPLE-STRUCTURED-LOCATION;VALUE=URI;X-ADDRESS=Gaithersburg Book Festival 31 South Summit Avenue  Gaithersburg MD 20877 United States;X-APPLE-RADIUS=500;X-TITLE=31 South Summit Avenue\,:geo:-77.1926495,39.139876
END:VEVENT
BEGIN:VEVENT
DTSTART;TZID=UTC:20160423T010000
DTEND;TZID=UTC:20160423T140000
DTSTAMP:20260423T174639
CREATED:20160302T031923Z
LAST-MODIFIED:20160302T031923Z
UID:2231-1461373200-1461420000@www.helenkleinross.com
SUMMARY:Barnes & Noble\, New Hartford\, NY
DESCRIPTION:Helen returns to her high school hometown for a special reading/signing of WHAT WAS MINE.
URL:https://www.helenkleinross.com/event/barnes-noble-new-hartford-ny/
LOCATION:Barnes & Noble\, New Hartford\, NY\, 4811 Commercial Drive\, \, New Hartford\, NY\, 13413\, United States
GEO:43.095158;-75.3062688
X-APPLE-STRUCTURED-LOCATION;VALUE=URI;X-ADDRESS=Barnes & Noble New Hartford NY 4811 Commercial Drive  New Hartford NY 13413 United States;X-APPLE-RADIUS=500;X-TITLE=4811 Commercial Drive\,:geo:-75.3062688,43.095158
END:VEVENT
BEGIN:VEVENT
DTSTART;TZID=UTC:20160417T180000
DTEND;TZID=UTC:20160417T190000
DTSTAMP:20260423T174639
CREATED:20160302T030023Z
LAST-MODIFIED:20160302T030023Z
UID:2227-1460916000-1460919600@www.helenkleinross.com
SUMMARY:Three Muses Reading at The Juilliard School
DESCRIPTION:A reading with Desirée Alvarez\, Helen Klein Ross and Danniel Schoonbeek
URL:https://www.helenkleinross.com/event/three-muses-reading-at-the-juilliard-school/
LOCATION:Glorya Kaufman Studio\, 2nd Floor\, 65th Street West of Broadway\, New York\, NY\, 10023\, United States
GEO:40.7737912;-73.9839916
X-APPLE-STRUCTURED-LOCATION;VALUE=URI;X-ADDRESS=Glorya Kaufman Studio 2nd Floor 65th Street West of Broadway New York NY 10023 United States;X-APPLE-RADIUS=500;X-TITLE=65th Street West of Broadway:geo:-73.9839916,40.7737912
END:VEVENT
BEGIN:VEVENT
DTSTART;TZID=UTC:20160409T140000
DTEND;TZID=UTC:20160409T153000
DTSTAMP:20260423T174639
CREATED:20160209T032350Z
LAST-MODIFIED:20160209T032350Z
UID:2206-1460210400-1460215800@www.helenkleinross.com
SUMMARY:Woodstock Writers Festival
DESCRIPTION:I look forward to being on a fiction panel moderated by the inimitable Ann Hood\, with a stunning lineup of authors I admire: Maggie Mitchell\, Robert Burke Warren and Sunil Yapa. Thanks to Martha Frankel for putting us together.
URL:https://www.helenkleinross.com/event/woodstock-writers-festival/
LOCATION:Kleinert/James Center for the Arts\, 34 Tinker St Woodstock\, NY\, Woodstock\, NY\, United States
CATEGORIES:What Was Mine
GEO:42.0406842;-74.1195833
X-APPLE-STRUCTURED-LOCATION;VALUE=URI;X-ADDRESS=Kleinert/James Center for the Arts 34 Tinker St Woodstock NY Woodstock NY United States;X-APPLE-RADIUS=500;X-TITLE=34 Tinker St Woodstock\, NY:geo:-74.1195833,42.0406842
END:VEVENT
BEGIN:VEVENT
DTSTART;TZID=UTC:20160331T190000
DTEND;TZID=UTC:20160331T200000
DTSTAMP:20260423T174639
CREATED:20160116T133400Z
LAST-MODIFIED:20160116T133616Z
UID:2147-1459450800-1459454400@www.helenkleinross.com
SUMMARY:Glucksman Ireland House NYU
DESCRIPTION:Reading and discussion of WHAT WAS MINE. This event is free for NYU or other students with ID. If not a student\, $10 donation to Ireland House at the door. RSVP requested. Please call 212-998-3950 (option 3) or email ireland.house@nyu.edu
URL:https://www.helenkleinross.com/event/glucksman-ireland-house-nyu/
LOCATION:Glucksman Ireland House NYU\, One Washington Mews  New York\, NY \, New York\, 10003\, United States
GEO:40.7317275;-73.996503
X-APPLE-STRUCTURED-LOCATION;VALUE=URI;X-ADDRESS=Glucksman Ireland House NYU One Washington Mews  New York NY  New York 10003 United States;X-APPLE-RADIUS=500;X-TITLE=One Washington Mews  New York\, NY:geo:-73.996503,40.7317275
END:VEVENT
BEGIN:VEVENT
DTSTART;TZID=UTC:20160210T190000
DTEND;TZID=UTC:20160210T200000
DTSTAMP:20260423T174639
CREATED:20160116T132342Z
LAST-MODIFIED:20160116T132342Z
UID:2144-1455130800-1455134400@www.helenkleinross.com
SUMMARY:KGB Bar
DESCRIPTION:What Was Mine reading\, part of At The Inkwell series.
URL:https://www.helenkleinross.com/event/kgb-bar/
LOCATION:KGB Bar\, 85 E 4th St\, New York\, NY 10003\, New York\, 10003\, United States
GEO:40.726589;-73.9898
X-APPLE-STRUCTURED-LOCATION;VALUE=URI;X-ADDRESS=KGB Bar 85 E 4th St New York NY 10003 New York 10003 United States;X-APPLE-RADIUS=500;X-TITLE=85 E 4th St\, New York\, NY 10003:geo:-73.9898,40.726589
END:VEVENT
BEGIN:VEVENT
DTSTART;TZID=UTC:20160131T163000
DTEND;TZID=UTC:20160131T180000
DTSTAMP:20260423T174639
CREATED:20151104T203459Z
LAST-MODIFIED:20151123T171707Z
UID:1412-1454257800-1454263200@www.helenkleinross.com
SUMMARY:Hudson Valley Writer's Center
DESCRIPTION:What Was Mine Reading with NYT bestselling author Abigail Thomas reading from What Comes Next and How To Like It \n  \nABOUT THE AUTHORS\nHelen Klein Ross’s fiction and poetry has been published in The New Yorker\, The New York Times and literary journals and anthologies. She is the creator of The Traveler’s Vade Mecum\, an anthology of poems with titles sourced from an 1853 compendium of over 8000 numbered phrases meant for travelers to telegraph. Contributors include former US poet laureate Billy Collins\, Bollingen Prize winner Frank Bidart and Hudson Valley Writers’ Center director Jennifer Franklin. The anthology is forthcoming from Red Hen Press. \nAbigail Thomas\, the daughter of renowned science writer Lewis Thomas (The Lives of a Cell)\, is the author of seven books of fiction\, memoir and poetry. Her Three Dog Life was named one of the best books of 2006 by the Los Angeles Times and the Washington Post. Her latest book What Comes Next and How to Like It moved Stephen King to name her “the Emily Dickenson of memoirists.” Abigail is the mother of four children and the grandmother of twelve. She lives and teaches in Woodstock\, NY.
URL:https://www.helenkleinross.com/event/hudson-valley-writers-center/
LOCATION:Hudson Valley Writers’ Center\, 300 Riverside Dr\, Sleepy Hollow\, NY\, 10591\, United States
CATEGORIES:What Was Mine
GEO:41.0945924;-73.8694975
X-APPLE-STRUCTURED-LOCATION;VALUE=URI;X-ADDRESS=Hudson Valley Writers’ Center 300 Riverside Dr Sleepy Hollow NY 10591 United States;X-APPLE-RADIUS=500;X-TITLE=300 Riverside Dr:geo:-73.8694975,41.0945924
END:VEVENT
BEGIN:VEVENT
DTSTART;TZID=UTC:20160127T193000
DTEND;TZID=UTC:20160127T203000
DTSTAMP:20260423T174639
CREATED:20151104T200802Z
LAST-MODIFIED:20151218T042833Z
UID:1405-1453923000-1453926600@www.helenkleinross.com
SUMMARY:Porter Square Books\, Cambridge MA
DESCRIPTION:What Was Mine book reading in conversation with Claire Messud\, author of The Woman Upstairs.
URL:https://www.helenkleinross.com/event/porter-square-books/
LOCATION:Porter Square Shopping Center\, 25 White Street\, Cambridge\, 02140\, United States
GEO:42.3889719;-71.118319
X-APPLE-STRUCTURED-LOCATION;VALUE=URI;X-ADDRESS=Porter Square Shopping Center 25 White Street Cambridge 02140 United States;X-APPLE-RADIUS=500;X-TITLE=25 White Street:geo:-71.118319,42.3889719
END:VEVENT
BEGIN:VEVENT
DTSTART;TZID=UTC:20160124T140000
DTEND;TZID=UTC:20160124T150000
DTSTAMP:20260423T174639
CREATED:20151218T042641Z
LAST-MODIFIED:20151218T042641Z
UID:2019-1453644000-1453647600@www.helenkleinross.com
SUMMARY:Books & Company\, Dayton\, OH
DESCRIPTION:What Was Mine book reading\, Q&A and signing.
URL:https://www.helenkleinross.com/event/books-company-dayton-oh/
LOCATION:Books & Company\,  4453 Walnut Street \, Dayton\, OH\, 45440\, United States
GEO:39.6944861;-84.1028256
X-APPLE-STRUCTURED-LOCATION;VALUE=URI;X-ADDRESS=Books & Company  4453 Walnut Street  Dayton OH 45440 United States;X-APPLE-RADIUS=500;X-TITLE=4453 Walnut Street:geo:-84.1028256,39.6944861
END:VEVENT
BEGIN:VEVENT
DTSTART;TZID=UTC:20160116T160000
DTEND;TZID=UTC:20160116T170000
DTSTAMP:20260423T174639
CREATED:20151104T203116Z
LAST-MODIFIED:20151220T135907Z
UID:1410-1452960000-1452963600@www.helenkleinross.com
SUMMARY:White Hart Inn\, Salisbury CT
DESCRIPTION:What Was Mine Reading and Launch Party. RSVP required. rsvp@oblongbooks.com The White Hart Inn Speaker Series in collaboration with Oblong Books & Music and Scoville Memorial Library. 
URL:https://www.helenkleinross.com/event/white-hart-inn-salisbury-ct/
LOCATION:The White Hart Inn\, 15 Under Mountain Rd\, Salisbury\, CT\, 06068\, United States
GEO:41.9847295;-73.4222401
X-APPLE-STRUCTURED-LOCATION;VALUE=URI;X-ADDRESS=The White Hart Inn 15 Under Mountain Rd Salisbury CT 06068 United States;X-APPLE-RADIUS=500;X-TITLE=15 Under Mountain Rd:geo:-73.4222401,41.9847295
END:VEVENT
BEGIN:VEVENT
DTSTART;TZID=UTC:20160113T190000
DTEND;TZID=UTC:20160113T200000
DTSTAMP:20260423T174639
CREATED:20151104T200638Z
LAST-MODIFIED:20151118T190906Z
UID:1403-1452711600-1452715200@www.helenkleinross.com
SUMMARY:Book Court\, Brooklyn NY
DESCRIPTION:What Was Mine book reading.
URL:https://www.helenkleinross.com/event/book-court/
LOCATION:Book Court\, 163 Court Street\, Brooklyn\, 11201\, United States
GEO:40.6886475;-73.9925961
X-APPLE-STRUCTURED-LOCATION;VALUE=URI;X-ADDRESS=Book Court 163 Court Street Brooklyn 11201 United States;X-APPLE-RADIUS=500;X-TITLE=163 Court Street:geo:-73.9925961,40.6886475
END:VEVENT
BEGIN:VEVENT
DTSTART;TZID=UTC:20160112T190000
DTEND;TZID=UTC:20160112T200000
DTSTAMP:20260423T174639
CREATED:20151104T195530Z
LAST-MODIFIED:20151118T190945Z
UID:1398-1452625200-1452628800@www.helenkleinross.com
SUMMARY:Barnes & Noble UWS\, NYC NY
DESCRIPTION:What Was Mine book reading
URL:https://www.helenkleinross.com/event/what-was-mine-book-reading/
LOCATION:Barnes & Noble UWS\, 2289 Broadway @ 82nd St.\, New York\, 10024\, United States
CATEGORIES:What Was Mine
GEO:40.7857569;-73.9784601
X-APPLE-STRUCTURED-LOCATION;VALUE=URI;X-ADDRESS=Barnes & Noble UWS 2289 Broadway @ 82nd St. New York 10024 United States;X-APPLE-RADIUS=500;X-TITLE=2289 Broadway @ 82nd St.:geo:-73.9784601,40.7857569
END:VEVENT
BEGIN:VEVENT
DTSTART;TZID=UTC:20160105T190000
DTEND;TZID=UTC:20160105T200000
DTSTAMP:20260423T174639
CREATED:20151104T202706Z
LAST-MODIFIED:20151221T124617Z
UID:1408-1452020400-1452024000@www.helenkleinross.com
SUMMARY:Barnes & Noble\, Naples FL
DESCRIPTION:Launch reading for What Was Mine with discussion and book signing.
URL:https://www.helenkleinross.com/event/barnes-noble/
LOCATION:Barnes & Noble\, New Hartford\, NY\, 4811 Commercial Drive\, \, New Hartford\, NY\, 13413\, United States
GEO:43.095158;-75.3062688
X-APPLE-STRUCTURED-LOCATION;VALUE=URI;X-ADDRESS=Barnes & Noble New Hartford NY 4811 Commercial Drive  New Hartford NY 13413 United States;X-APPLE-RADIUS=500;X-TITLE=4811 Commercial Drive\,:geo:-75.3062688,43.095158
END:VEVENT
END:VCALENDAR