BEGIN:VCALENDAR
VERSION:2.0
PRODID:-//Helen Klein Ross - ECPv6.15.17//NONSGML v1.0//EN
CALSCALE:GREGORIAN
METHOD:PUBLISH
X-WR-CALNAME:Helen Klein Ross
X-ORIGINAL-URL:https://www.helenkleinross.com
X-WR-CALDESC:Events for Helen Klein Ross
REFRESH-INTERVAL;VALUE=DURATION:PT1H
X-Robots-Tag:noindex
X-PUBLISHED-TTL:PT1H
BEGIN:VTIMEZONE
TZID:UTC
BEGIN:STANDARD
TZOFFSETFROM:+0000
TZOFFSETTO:+0000
TZNAME:UTC
DTSTART:20170101T000000
END:STANDARD
END:VTIMEZONE
BEGIN:VEVENT
DTSTART;TZID=UTC:20190920T113000
DTEND;TZID=UTC:20190920T153000
DTSTAMP:20260423T193339
CREATED:20190807T145443Z
LAST-MODIFIED:20190807T145443Z
UID:3548-1568979000-1568993400@www.helenkleinross.com
SUMMARY:Books on Pratt Street Fair
DESCRIPTION:Thirty authors gather to sign books on this quaint\, cobblestoned street that shuts down each year for fair which includes music and refreshments.
URL:https://www.helenkleinross.com/event/books-on-pratt-street-fair/
LOCATION:Books on Pratt Street Fair\, Pratt Street\, Hartford\, CT\, 06103\, United States
CATEGORIES:Book Festivals,The Latecomers
END:VEVENT
BEGIN:VEVENT
DTSTART;TZID=UTC:20190802T180000
DTEND;TZID=UTC:20190802T200000
DTSTAMP:20260423T193339
CREATED:20190627T191646Z
LAST-MODIFIED:20190627T203840Z
UID:3523-1564768800-1564776000@www.helenkleinross.com
SUMMARY:23rd Annual Sharon Summer Book Signing
DESCRIPTION:A Benefit for the Hotchkiss Library featuring 30 authors and illustrators including Martha Hall Kelly\, George Packer and Roxana Robinson. Wine\, cocktails\, hors d’oeuvres under the tent.  Tickets can be purchased in advance here or at the door.
URL:https://www.helenkleinross.com/event/23rd-annual-sharon-summer-book-signing/
LOCATION:Hotchkiss Library of Sharon\, 10 Upper Main Street\, Sharon\, CT\, 06069\, United States
CATEGORIES:Book Festivals,The Latecomers
END:VEVENT
BEGIN:VEVENT
DTSTART;TZID=UTC:20190710T200000
DTEND;TZID=UTC:20190710T210000
DTSTAMP:20260423T193339
CREATED:20190627T160029Z
LAST-MODIFIED:20190627T204357Z
UID:3520-1562788800-1562792400@www.helenkleinross.com
SUMMARY:Panel Discussion: A Sense of the Past with Madeline Miller and Adam Braver
DESCRIPTION:Craft talk\, part of New York State Summer Writers Institute. Adam Braver (November 22\, 1963\, 2008)\, Madeline Miller (Circe\, 2018) and Helen Klein Ross (The Latecomers\, 2018) discuss personal approaches to writing a novel set in the past. Gannett Auditorium\, Skidmore College. All welcome. This event is free and open to the public.
URL:https://www.helenkleinross.com/event/panel-discussion-a-sense-of-the-past-with-madeline-miller-and-adam-braver/
LOCATION:Skidmore College\, 815 N Broadway\, Saratoga Springs\, 12866-1632\, United States
CATEGORIES:The Latecomers
GEO:43.095777;-73.7823318
X-APPLE-STRUCTURED-LOCATION;VALUE=URI;X-ADDRESS=Skidmore College 815 N Broadway Saratoga Springs 12866-1632 United States;X-APPLE-RADIUS=500;X-TITLE=815 N Broadway:geo:-73.7823318,43.095777
END:VEVENT
BEGIN:VEVENT
DTSTART;TZID=UTC:20181205T190000
DTEND;TZID=UTC:20181205T200000
DTSTAMP:20260423T193339
CREATED:20181112T231944Z
LAST-MODIFIED:20181112T231944Z
UID:3273-1544036400-1544040000@www.helenkleinross.com
SUMMARY:Reading in Philadelphia area\, Main Point Books
DESCRIPTION:
URL:https://www.helenkleinross.com/event/reading-in-philadelphia-area-main-point-books/
LOCATION:Main Point Books\, 116 N. Wayne Avenue\, Wayne\, PA\, 19087
CATEGORIES:Hidden History of 20th Century America,Readings,The Latecomers
END:VEVENT
BEGIN:VEVENT
DTSTART;TZID=UTC:20181129T190000
DTEND;TZID=UTC:20181129T200000
DTSTAMP:20260423T193339
CREATED:20181004T151307Z
LAST-MODIFIED:20181120T175616Z
UID:2955-1543518000-1543521600@www.helenkleinross.com
SUMMARY:In conversation with Helen Simonson at Book Culture\, Columbus & 82nd St\, New York
DESCRIPTION:Please join me as I introduce my new novel THE LATECOMERS\, in conversation with Helen Simonson\, author of best selling historical novels THE SUMMER BEFORE THE WAR and MAJOR PETTIGREW’S LAST STAND. Event includes short slide presentation “Hidden History of 20th Century America” showing customs and artifacts found during book research\, once part of everyday life: paper knives\, knocker-uppers\, Victorias and Silent Policemen. Both of us will be happy to sign books.
URL:https://www.helenkleinross.com/event/reading/
LOCATION:Book Culture\, 450 Columbus Ave at 82ndSt\, New York\, NY\, 10024
CATEGORIES:Hidden History of 20th Century America,Readings,The Latecomers
END:VEVENT
BEGIN:VEVENT
DTSTART;TZID=UTC:20181117T140000
DTEND;TZID=UTC:20181117T140000
DTSTAMP:20260423T193339
CREATED:20181004T150719Z
LAST-MODIFIED:20181110T120325Z
UID:2953-1542463200-1542463200@www.helenkleinross.com
SUMMARY:Books & Company\, Dayton\, Ohio Reading and "Hidden History" Slide Presentation
DESCRIPTION:
URL:https://www.helenkleinross.com/event/reading-hidden-history-slide-presentation-2/
LOCATION:Books & Company\,  4453 Walnut Street \, Dayton\, OH\, 45440\, United States
CATEGORIES:Hidden History of 20th Century America,The Latecomers
GEO:39.6944861;-84.1028256
X-APPLE-STRUCTURED-LOCATION;VALUE=URI;X-ADDRESS=Books & Company  4453 Walnut Street  Dayton OH 45440 United States;X-APPLE-RADIUS=500;X-TITLE=4453 Walnut Street:geo:-84.1028256,39.6944861
END:VEVENT
END:VCALENDAR